BEGIN:VCALENDAR
VERSION:2.0
PRODID:-//ProSocialBusiness - ECPv6.15.15//NONSGML v1.0//EN
CALSCALE:GREGORIAN
METHOD:PUBLISH
X-ORIGINAL-URL:https://prosocialbusiness.de
X-WR-CALDESC:Veranstaltungen für ProSocialBusiness
REFRESH-INTERVAL;VALUE=DURATION:PT1H
X-Robots-Tag:noindex
X-PUBLISHED-TTL:PT1H
BEGIN:VTIMEZONE
TZID:Europe/Helsinki
BEGIN:DAYLIGHT
TZOFFSETFROM:+0200
TZOFFSETTO:+0300
TZNAME:EEST
DTSTART:20250330T010000
END:DAYLIGHT
BEGIN:STANDARD
TZOFFSETFROM:+0300
TZOFFSETTO:+0200
TZNAME:EET
DTSTART:20251026T010000
END:STANDARD
BEGIN:DAYLIGHT
TZOFFSETFROM:+0200
TZOFFSETTO:+0300
TZNAME:EEST
DTSTART:20260329T010000
END:DAYLIGHT
BEGIN:STANDARD
TZOFFSETFROM:+0300
TZOFFSETTO:+0200
TZNAME:EET
DTSTART:20261025T010000
END:STANDARD
BEGIN:DAYLIGHT
TZOFFSETFROM:+0200
TZOFFSETTO:+0300
TZNAME:EEST
DTSTART:20270328T010000
END:DAYLIGHT
BEGIN:STANDARD
TZOFFSETFROM:+0300
TZOFFSETTO:+0200
TZNAME:EET
DTSTART:20271031T010000
END:STANDARD
END:VTIMEZONE
BEGIN:VEVENT
DTSTART;TZID=Europe/Helsinki:20260330T133000
DTEND;TZID=Europe/Helsinki:20260330T160000
DTSTAMP:20260424T225148
CREATED:20260116T130823Z
LAST-MODIFIED:20260116T130823Z
UID:12920-1774877400-1774886400@prosocialbusiness.de
SUMMARY:Online Marketing für Einsteigerinnen
DESCRIPTION:Erfolgreich durchstarten mit einfachen Strategien und Tools\n\nIn diesem Workshop lernst du\, wie du das Internet nutzen kannst\, um mehr Menschen auf deine Produkte oder Dienstleistungen aufmerksam zu machen. Wir zeigen dir\, welche einfachen Strategien und Werkzeuge du verwenden kannst\, um deine Online-Präsenz zu verbessern und potenzielle Kunden anzusprechen. Egal ob du ein kleines Unternehmen hast oder gerade erst anfängst – dieser Workshop ist für alle geeignet\, die mehr über Online Marketing erfahren möchten. Wir erklären alles verständlich und praxisnah\, damit du direkt loslegen kannst und erfolgreich im digitalen Raum durchstartest.\n \nThemen:\n• Was ist Marketing?\n• Image kreieren – Meine Geschäftsidee!\n• Die vier P´s aus dem Marketing Mix!\n• Digitale Inhalte!\n• Praktische Übungen\n• Meine Hompage\n• Social Media\n• Rechtliches\n \nReferentinnen: Stefanie Karbach\n \nLernen Sie außerdem andere Frauen kennen\, die schon in Deutschland gegründet haben oder auch gerade dabei sind. Durch das Zusammenkommen haben Sie die Möglichkeit mehr über andere Gründerinnen und Ihre Ideen zu erfahren und somit wertvolle Kontakte zu knüpfen.\n \nUnd: keine Angst\, wenn Sie noch nicht so gut Deutsch sprechen. Wir sprechen langsam\, erklären viel und können auch übersetzen\, z.B. in Englisch\, Französisch\, Arabisch oder Ukrainisch…\n  \n\n \nWann\n30.03.2026\, 13:30 – 16:00 Uhr      \n \nWo\nPro Social Business in Rheinland-Pfalz\, Friedrichstr. 46\, 67433 Neustadt/Weinstraße Preis Für Teilnehmerinnen am Projekt ist dieser Kurs kostenlos.  Anmeldung femme@prosocialbusiness.de oder telefonisch unter  +49 (0) 6321 9653 020  \n\n\n \n\n\n\n\n\n 
URL:https://prosocialbusiness.de/termine/online-marketing-2-2/
LOCATION:Pro Social Business NW\, Friedrichstraße 46\, Neustadt\, 67433\, Deutschland
CATEGORIES:Femme,Workshop
ATTACH;FMTTYPE=image/jpeg:https://prosocialbusiness.de/de/wp-content/uploads/2019/08/online-marketing.jpg
ORGANIZER;CN="Pro Social Business NW":MAILTO:femme@prosocialbusiness.de
END:VEVENT
END:VCALENDAR