BEGIN:VCALENDAR
VERSION:2.0
PRODID:-//ProSocialBusiness - ECPv6.15.15//NONSGML v1.0//EN
CALSCALE:GREGORIAN
METHOD:PUBLISH
X-WR-CALNAME:ProSocialBusiness
X-ORIGINAL-URL:https://prosocialbusiness.de
X-WR-CALDESC:Veranstaltungen für ProSocialBusiness
REFRESH-INTERVAL;VALUE=DURATION:PT1H
X-Robots-Tag:noindex
X-PUBLISHED-TTL:PT1H
BEGIN:VTIMEZONE
TZID:Europe/Helsinki
BEGIN:DAYLIGHT
TZOFFSETFROM:+0200
TZOFFSETTO:+0300
TZNAME:EEST
DTSTART:20240331T010000
END:DAYLIGHT
BEGIN:STANDARD
TZOFFSETFROM:+0300
TZOFFSETTO:+0200
TZNAME:EET
DTSTART:20241027T010000
END:STANDARD
BEGIN:DAYLIGHT
TZOFFSETFROM:+0200
TZOFFSETTO:+0300
TZNAME:EEST
DTSTART:20250330T010000
END:DAYLIGHT
BEGIN:STANDARD
TZOFFSETFROM:+0300
TZOFFSETTO:+0200
TZNAME:EET
DTSTART:20251026T010000
END:STANDARD
BEGIN:DAYLIGHT
TZOFFSETFROM:+0200
TZOFFSETTO:+0300
TZNAME:EEST
DTSTART:20260329T010000
END:DAYLIGHT
BEGIN:STANDARD
TZOFFSETFROM:+0300
TZOFFSETTO:+0200
TZNAME:EET
DTSTART:20261025T010000
END:STANDARD
END:VTIMEZONE
BEGIN:VEVENT
DTSTART;TZID=Europe/Helsinki:20250217T130000
DTEND;TZID=Europe/Helsinki:20250217T160000
DTSTAMP:20260425T163716
CREATED:20250116T140947Z
LAST-MODIFIED:20250116T141000Z
UID:12716-1739797200-1739808000@prosocialbusiness.de
SUMMARY:Buchhaltung leicht gemacht 1
DESCRIPTION:Buchhaltung leicht gemacht (Teil 1 von 2)\nSie möchten ein Unternehmen gründen und Sie möchten sich gut auf das Thema Buchführung vorbereiten? Dann sind Sie hier richtig!\nWas muss ich in Deutschland alles beachten? Wie schreibe ich die ersten Rechnungen? Welche Steuern muss ich ausweisen? Was ist eine Kleinunternehmerregelung? Wie mache ich eine Gewinnermittlung?\nWir erklären Ihnen die wichtigsten Schritte und Regelungen in Bezug auf Ihre Buchhaltung und das alles in einfacher Sprache! \nReferentin: Sally S. Balaj \nThemen des Workshops: \n Kontakt zum Finanzamt\, Fragebogen zur steuerlichen Erfassung\, ggf. Gewerbeanmeldung \n Steuern: Mit welchen Steuern komme ich als Selbstständige in Kontakt? Welche Abgaberegelungen gibt es? \n Rechnungsstellung: Wie schreibe ich meine Rechnungen\, welche Angaben sind Pflicht\, was muss ich bei der Kleinunternehmerregelung beachten…? \n Einnahmen- & Ausgaben: Gewinnermittlung (Einnahme-Überschussrechnung)\, Regeln der einfachen Buchführung \n Unternehmensformen \n Kurze Einführung einfache Buchführung \nHaben Sie keine Angst\, Fachbegriffe können wir in einfacher Sprache wiedergeben\, und wir legen Wert auf die Klärung Ihrer persönlichen Rückfragen. \nLernen Sie außerdem andere Frauen kennen\, die schon in Deutschland gegründet haben oder auch gerade dabei sind.  Durch das Zusammenkommen haben Sie die Möglichkeit mehr über andere Gründerinnen und Ihre Ideen zu erfahren und somit wertvolle Kontakte zu knüpfen. \nUnd: keine Angst\, wenn Sie noch nicht so gut Deutsch sprechen. Wir sprechen langsam\, erklären viel und können auch übersetzen\, z.B. in Englisch\, Französisch\, Arabisch oder Ukrainisch… \n\n  \nWann\n\nTeil 1: 17.02.2025\, 13:00 – 16:00 Uhr    \nTeil 2: 24.02.2025\, 13:00 – 16:00 Uhr\n\nWo\nPro Social Business in Rheinland-Pfalz\,\nFriedrichstr. 46\, 67433 Neustadt/Weinstraße\nPreis\nKosten für beide Termine:\nFür Teilnehmerinnen am Projekt ist dieser Kurs kostenlos. \nNormalpreis (Für Nicht-Kund*innen): 78 Euro inkl. MwSt.* \nAnmeldung\nfemme@prosocialbusiness.de oder\nTel.: 06321 9653 020 \n\n\n\n 
URL:https://prosocialbusiness.de/termine/buchhaltung-leicht-gemacht-24-3-2-2/
LOCATION:Pro Social Business NW\, Friedrichstraße 46\, Neustadt\, 67433\, Deutschland
CATEGORIES:Femme,Workshop
ATTACH;FMTTYPE=image/jpeg:https://prosocialbusiness.de/de/wp-content/uploads/2018/03/photocase_id_2000825.jpg
ORGANIZER;CN="Pro Social Business NW":MAILTO:femme@prosocialbusiness.de
END:VEVENT
BEGIN:VEVENT
DTSTART;TZID=Europe/Helsinki:20250224T130000
DTEND;TZID=Europe/Helsinki:20250224T160000
DTSTAMP:20260425T163716
CREATED:20250116T141055Z
LAST-MODIFIED:20250116T141055Z
UID:12719-1740402000-1740412800@prosocialbusiness.de
SUMMARY:Buchhaltung leicht gemacht 2
DESCRIPTION:Buchhaltung leicht gemacht (Teil 2 von 2)\nSie möchten ein Unternehmen gründen und Sie möchten sich gut auf das Thema Buchführung vorbereiten? Dann sind Sie hier richtig!\nWas muss ich in Deutschland alles beachten? Wie schreibe ich die ersten Rechnungen? Welche Steuern muss ich ausweisen? Was ist eine Kleinunternehmerregelung? Wie mache ich eine Gewinnermittlung?\nWir erklären Ihnen die wichtigsten Schritte und Regelungen in Bezug auf Ihre Buchhaltung und das alles in einfacher Sprache! \nReferentin: Sally S. Balaj \nThemen des Workshops: \n Kontakt zum Finanzamt\, Fragebogen zur steuerlichen Erfassung\, ggf. Gewerbeanmeldung \n Steuern: Mit welchen Steuern komme ich als Selbstständige in Kontakt? Welche Abgaberegelungen gibt es? \n Rechnungsstellung: Wie schreibe ich meine Rechnungen\, welche Angaben sind Pflicht\, was muss ich bei der Kleinunternehmerregelung beachten…? \n Einnahmen- & Ausgaben: Gewinnermittlung (Einnahme-Überschussrechnung)\, Regeln der einfachen Buchführung \n Unternehmensformen \n Kurze Einführung einfache Buchführung \nHaben Sie keine Angst\, Fachbegriffe können wir in einfacher Sprache wiedergeben\, und wir legen Wert auf die Klärung Ihrer persönlichen Rückfragen. \nLernen Sie außerdem andere Frauen kennen\, die schon in Deutschland gegründet haben oder auch gerade dabei sind.  Durch das Zusammenkommen haben Sie die Möglichkeit mehr über andere Gründerinnen und Ihre Ideen zu erfahren und somit wertvolle Kontakte zu knüpfen. \nUnd: keine Angst\, wenn Sie noch nicht so gut Deutsch sprechen. Wir sprechen langsam\, erklären viel und können auch übersetzen\, z.B. in Englisch\, Französisch\, Arabisch oder Ukrainisch… \n\n  \nWann\n\nTeil 1: 17.02.2025\, 13:00 – 16:00 Uhr    \nTeil 2: 24.02.2025\, 13:00 – 16:00 Uhr\n\nWo\nPro Social Business in Rheinland-Pfalz\,\nFriedrichstr. 46\, 67433 Neustadt/Weinstraße\nPreis\nKosten für beide Termine:\nFür Teilnehmerinnen am Projekt ist dieser Kurs kostenlos. \nNormalpreis (Für Nicht-Kund*innen): 78 Euro inkl. MwSt.* \nAnmeldung\nfemme@prosocialbusiness.de oder\nTel.: 06321 9653 020 \n\n\n\n 
URL:https://prosocialbusiness.de/termine/buchhaltung-leicht-gemacht-24-3-2-2-2/
LOCATION:Pro Social Business NW\, Friedrichstraße 46\, Neustadt\, 67433\, Deutschland
CATEGORIES:Femme,Workshop
ATTACH;FMTTYPE=image/jpeg:https://prosocialbusiness.de/de/wp-content/uploads/2018/03/photocase_id_2000825.jpg
ORGANIZER;CN="Pro Social Business NW":MAILTO:femme@prosocialbusiness.de
END:VEVENT
END:VCALENDAR