BEGIN:VCALENDAR
VERSION:2.0
PRODID:-//ProSocialBusiness - ECPv6.15.15//NONSGML v1.0//EN
CALSCALE:GREGORIAN
METHOD:PUBLISH
X-ORIGINAL-URL:https://prosocialbusiness.de
X-WR-CALDESC:Veranstaltungen für ProSocialBusiness
REFRESH-INTERVAL;VALUE=DURATION:PT1H
X-Robots-Tag:noindex
X-PUBLISHED-TTL:PT1H
BEGIN:VTIMEZONE
TZID:Europe/Helsinki
BEGIN:DAYLIGHT
TZOFFSETFROM:+0200
TZOFFSETTO:+0300
TZNAME:EEST
DTSTART:20230326T010000
END:DAYLIGHT
BEGIN:STANDARD
TZOFFSETFROM:+0300
TZOFFSETTO:+0200
TZNAME:EET
DTSTART:20231029T010000
END:STANDARD
BEGIN:DAYLIGHT
TZOFFSETFROM:+0200
TZOFFSETTO:+0300
TZNAME:EEST
DTSTART:20240331T010000
END:DAYLIGHT
BEGIN:STANDARD
TZOFFSETFROM:+0300
TZOFFSETTO:+0200
TZNAME:EET
DTSTART:20241027T010000
END:STANDARD
BEGIN:DAYLIGHT
TZOFFSETFROM:+0200
TZOFFSETTO:+0300
TZNAME:EEST
DTSTART:20250330T010000
END:DAYLIGHT
BEGIN:STANDARD
TZOFFSETFROM:+0300
TZOFFSETTO:+0200
TZNAME:EET
DTSTART:20251026T010000
END:STANDARD
END:VTIMEZONE
BEGIN:VEVENT
DTSTART;TZID=Europe/Helsinki:20240916T133000
DTEND;TZID=Europe/Helsinki:20240916T160000
DTSTAMP:20260425T183606
CREATED:20240601T101625Z
LAST-MODIFIED:20240727T122220Z
UID:12219-1726493400-1726502400@prosocialbusiness.de
SUMMARY:Gründen aus der Arbeitslosigkeit
DESCRIPTION:Gründen aus der Arbeitslosigkeit \nSind Sie arbeitslos und denken darüber nach\, Ihr eigenes Unternehmen zu gründen? Möchten Sie Ihre Ideen in die Tat umsetzen und finanzielle Unabhängigkeit erlangen? Dann ist unser Workshop „Gründen aus der Arbeitslosigkeit“ genau das Richtige für Sie! \n\n  \nThemeninhalte: \n– Förderungen und Zuschüsse (Einstiegsgeld und Gründungszuschuss) \n– Arbeitslosengeld \n– Fachliche Vorraussetzungen \n– Businessplan \nReferentinnen: Katharina Barth \nLernen Sie außerdem andere Frauen kennen\, die schon in Deutschland gegründet haben oder auch gerade dabei sind. Durch das Zusammenkommen haben Sie die Möglichkeit mehr über andere Gründerinnen und Ihre Ideen zu erfahren und somit wertvolle Kontakte zu knüpfen.\n \nUnd: keine Angst\, wenn Sie noch nicht so gut Deutsch sprechen. Wir sprechen langsam\, erklären viel und können auch übersetzen\, z.B. in Englisch\, Französisch\, Arabisch oder Ukrainisch…\n  \n\n \nWann\n16.09.2024\, 13:30 – 16:00 Uhr      \n \nWo\nPro Social Business in Rheinland-Pfalz\, Friedrichstr. 46\, 67433 Neustadt/Weinstraße Preis Für Teilnehmerinnen am Projekt ist dieser Kurs kostenlos.  Anmeldung femme@prosocialbusiness.de oder telefonisch unter  +49 (0) 6321 9653 020  \n\n\n 
URL:https://prosocialbusiness.de/termine/gruenden-aus-der-arbeitslosigkeit/
LOCATION:Pro Social Business NW\, Friedrichstraße 46\, Neustadt\, 67433\, Deutschland
CATEGORIES:Femme,Workshop
ATTACH;FMTTYPE=image/jpeg:https://prosocialbusiness.de/de/wp-content/uploads/2024/07/WS_gruenden-aus-der-arbeitslosigkeit.jpg
ORGANIZER;CN="Pro Social Business NW":MAILTO:femme@prosocialbusiness.de
END:VEVENT
END:VCALENDAR