BEGIN:VCALENDAR
VERSION:2.0
PRODID:-//ProSocialBusiness - ECPv6.15.15//NONSGML v1.0//EN
CALSCALE:GREGORIAN
METHOD:PUBLISH
X-WR-CALNAME:ProSocialBusiness
X-ORIGINAL-URL:https://prosocialbusiness.de
X-WR-CALDESC:Veranstaltungen für ProSocialBusiness
REFRESH-INTERVAL;VALUE=DURATION:PT1H
X-Robots-Tag:noindex
X-PUBLISHED-TTL:PT1H
BEGIN:VTIMEZONE
TZID:Europe/Helsinki
BEGIN:DAYLIGHT
TZOFFSETFROM:+0200
TZOFFSETTO:+0300
TZNAME:EEST
DTSTART:20250330T010000
END:DAYLIGHT
BEGIN:STANDARD
TZOFFSETFROM:+0300
TZOFFSETTO:+0200
TZNAME:EET
DTSTART:20251026T010000
END:STANDARD
BEGIN:DAYLIGHT
TZOFFSETFROM:+0200
TZOFFSETTO:+0300
TZNAME:EEST
DTSTART:20260329T010000
END:DAYLIGHT
BEGIN:STANDARD
TZOFFSETFROM:+0300
TZOFFSETTO:+0200
TZNAME:EET
DTSTART:20261025T010000
END:STANDARD
BEGIN:DAYLIGHT
TZOFFSETFROM:+0200
TZOFFSETTO:+0300
TZNAME:EEST
DTSTART:20270328T010000
END:DAYLIGHT
BEGIN:STANDARD
TZOFFSETFROM:+0300
TZOFFSETTO:+0200
TZNAME:EET
DTSTART:20271031T010000
END:STANDARD
END:VTIMEZONE
BEGIN:VEVENT
DTSTART;TZID=Europe/Helsinki:20260205T180000
DTEND;TZID=Europe/Helsinki:20260205T190000
DTSTAMP:20260424T182211
CREATED:20260116T125326Z
LAST-MODIFIED:20260116T125326Z
UID:12907-1770314400-1770318000@prosocialbusiness.de
SUMMARY:Online-Sprechstunde “Ist Gründen etwas für mich?“
DESCRIPTION:  \n\n\n\n\nOnline-Sprechstunde in einfacher Sprache\nFrauen starten durch  –  “Existenzgründung – ist das was für mich?“\n Wenn Sie sich zum Thema Gründen in Deutschland informieren möchten\, kommen Sie zu unserer offenen Online-Sprechstunde! Hier können Sie alle Fragen stellen und bekommen einen Überblick über Voraussetzungen und erste Schritte. \nBevor Sie loslegen und ein Unternehmen gründen\, können Sie diese  Onlinesprechstunde nutzen um offene Fragen im Bereich “Gründung“ zu stellen. \nAuch bieten wir eine Orientierung\, welches die ersten Schritte einer Gründung\, sein können:  \n– Ist Gründen etwas für mich? – Welche persönlichen Fähigkeiten brauche ich als Gründerin? – Was brauche ich für eine Gründung in Deutschland? – Welche Regelungen muss ich beachten?– Was sind die ersten Schritte?– Welche Möglichkeiten zur Finanzierung gibt es?– Wie ist das mit meinen Qualifikationen? \nWer am Seminar teilnimmt\, findet kurze Antworten auf die wichtigsten und dringendsten Fragen zu Unternehmensgründung in Deutschland. \nReferentinnen: Karin Silvestri  \n\n \nWann: Jeden ersten Donnerstag im Monat von 18:00 – 19:00 Uhr        \n \nWo: Zoom\n\nDie Online-Sprechstunde findet online über Zoom statt. Die Zugangsdaten zur Einwahl erhalten Sie nach Ihrer Anmeldung. Anmeldung bitte per Email oder Telefon! Nach Ihrer Anmeldungs-Bestätigung\, senden wir Ihnen einen Link zu. Bitte diesen zum Zeitpunkt der Online-Sprechstunde anklicken und somit der Sprechstunde beitreten. Falls Sie weitere Unterstützung brauchen sprechen Sie uns an\, wir helfen Ihnen bei den Vorbereitungen. \nPreis: Für Teilnehmerinnen am Projekt ist dieser Kurs kostenlos.   \n\n\n \n\n\n\n  \n\n\n\nANMELDUNG\n\nIch bin an der nächsten online-Infoveranstaltung interessiert.\nBitte senden Sie mir den Zoomlink zu.\n\n Vorname (Pflichtfeld)\n \n \nName (Pflichtfeld)\n \n \nE-Mail-Adresse (Pflichtfeld)\n \n \nTelefonnummer\n \n \nBemerkung:\n\n \n\n ×\n\n\n\n\n\n  \n\n \n \n 
URL:https://prosocialbusiness.de/termine/online-sprechstunde-ist-gruenden-etwas-fuer-mich-24-6-2-2-2-2-2-3-2/
LOCATION:Video-Kurs-Plattform zoom
CATEGORIES:Femme,Online-Seminar in einfacher Sprache,Workshop
ATTACH;FMTTYPE=image/jpeg:https://prosocialbusiness.de/de/wp-content/uploads/2023/03/Onlinesprechstunde_credit_photocase.jpg
ORGANIZER;CN="Pro Social Business NW":MAILTO:femme@prosocialbusiness.de
END:VEVENT
BEGIN:VEVENT
DTSTART;TZID=Europe/Helsinki:20260209T133000
DTEND;TZID=Europe/Helsinki:20260209T160000
DTSTAMP:20260424T182211
CREATED:20260116T132428Z
LAST-MODIFIED:20260116T132428Z
UID:12935-1770643800-1770652800@prosocialbusiness.de
SUMMARY:Geschäftsmodell entwickeln
DESCRIPTION:Von der Idee zum Erfolg: Workshop zur Entwicklung eines tragfähigen Geschäftsmodells\nIn dem Workshop werden die grundlegenden Elemente eines Geschäftsmodells erläutert\, darunter die Zielgruppenanalyse\, die Wertversprechen\, die Einnahmequellen\, die Vertriebskanäle\, die Schlüsselpartner und Ressourcen sowie die Kostenstruktur. Sie lernen\, wie sie diese Elemente systematisch analysieren und miteinander verknüpfen können\, um ein tragfähiges und differenzierendes Geschäftsmodell zu entwickeln. \n\nDarüber hinaus werden im Workshop verschiedene Methoden und Tools zur Geschäftsmodellentwicklung vorgestellt\, darunter das Business Model Canvas\, SWOT-Analysen… Sie erhalten praktische Tipps zur Umsetzung ihres Geschäftsmodells sowie zur Identifizierung von Chancen und Risiken in ihrem Marktumfeld. \nReferentinnen: Sally S.Balaj   \nLernen Sie außerdem andere Frauen kennen\, die schon in Deutschland gegründet haben oder auch gerade dabei sind. Durch das Zusammenkommen haben Sie die Möglichkeit mehr über andere Gründerinnen und Ihre Ideen zu erfahren und somit wertvolle Kontakte zu knüpfen.\n \nUnd: keine Angst\, wenn Sie noch nicht so gut Deutsch sprechen. Wir sprechen langsam\, erklären viel und können auch übersetzen\, z.B. in Englisch\, Französisch\, Arabisch oder Ukrainisch…\n  \n\n \nWann\n09.02.2026\, 13:30 – 16:00 Uhr      \n \nWo\nPro Social Business in Rheinland-Pfalz\, Friedrichstr. 46\, 67433 Neustadt/Weinstraße Preis Für Teilnehmerinnen am Projekt ist dieser Kurs kostenlos.  Anmeldung femme@prosocialbusiness.de oder telefonisch unter  +49 (0) 6321 9653 020  \n\n\n 
URL:https://prosocialbusiness.de/termine/geschaeftsmodell-entwickeln-2-2-2-2/
LOCATION:Pro Social Business NW\, Friedrichstraße 46\, Neustadt\, 67433\, Deutschland
CATEGORIES:Femme,Workshop
ATTACH;FMTTYPE=image/jpeg:https://prosocialbusiness.de/de/wp-content/uploads/2024/06/WS_geschaeftsmodell.jpg
ORGANIZER;CN="Pro Social Business NW":MAILTO:femme@prosocialbusiness.de
END:VEVENT
BEGIN:VEVENT
DTSTART;TZID=Europe/Helsinki:20260216T133000
DTEND;TZID=Europe/Helsinki:20260216T160000
DTSTAMP:20260424T182211
CREATED:20250430T111740Z
LAST-MODIFIED:20260116T131123Z
UID:12790-1771248600-1771257600@prosocialbusiness.de
SUMMARY:Workshop Businessplan
DESCRIPTION:Schritt für Schritt zum perfekten Businessplan\nEin interaktiver Workshop für angehende Unternehmerinnen \n\nDer Workshop beginnt mit einer Einführung in die Bedeutung und den Zweck eines Businessplans. Sie lernen\, warum ein gut durchdachter Businessplan\, für den Erfolg eines Unternehmens entscheidend ist. Anschließend werden die verschiedenen Bestandteile eines Businessplans vorgestellt\, wie z.B. die Unternehmensbeschreibung\, Marktanalyse\, Marketingstrategie\, Finanzplanung und Risikobewertung. Sie erhalten praktische Tipps und Beispiele\, wie sie diese Elemente in ihren eigenen Businessplan integrieren können. \n \nReferentinnen: Karin Silvestri\n \nLernen Sie außerdem andere Frauen kennen\, die schon in Deutschland gegründet haben oder auch gerade dabei sind. Durch das Zusammenkommen haben Sie die Möglichkeit mehr über andere Gründerinnen und Ihre Ideen zu erfahren und somit wertvolle Kontakte zu knüpfen.\n \nUnd: keine Angst\, wenn Sie noch nicht so gut Deutsch sprechen. Wir sprechen langsam\, erklären viel und können auch übersetzen\, z.B. in Englisch\, Französisch\, Arabisch oder Ukrainisch…\n  \n\n \nWann\n16.02.2026\, 13:30 – 16:00 Uhr      \n \nWo\nPro Social Business in Rheinland-Pfalz\, Friedrichstr. 46\, 67433 Neustadt/Weinstraße Preis Für Teilnehmerinnen am Projekt ist dieser Kurs kostenlos.  Anmeldung femme@prosocialbusiness.de oder telefonisch unter  +49 (0) 6321 9653 020  \n\n\n 
URL:https://prosocialbusiness.de/termine/businessplan-2024-1-2-2-2/
LOCATION:Pro Social Business NW\, Friedrichstraße 46\, Neustadt\, 67433\, Deutschland
CATEGORIES:Femme,Workshop
ATTACH;FMTTYPE=image/jpeg:https://prosocialbusiness.de/de/wp-content/uploads/2022/08/WS_businessplan_roberto-cortese-unsplash.jpg
ORGANIZER;CN="Pro Social Business NW":MAILTO:femme@prosocialbusiness.de
END:VEVENT
BEGIN:VEVENT
DTSTART;TZID=Europe/Helsinki:20260223T133000
DTEND;TZID=Europe/Helsinki:20260223T160000
DTSTAMP:20260424T182211
CREATED:20260116T124712Z
LAST-MODIFIED:20260116T124712Z
UID:12902-1771853400-1771862400@prosocialbusiness.de
SUMMARY:Finanzplanung leicht gemacht
DESCRIPTION:Finanzplanung leicht gemacht: In wenigen Schritten zum erfolgreichen Unternehmerbudget- einfach und verständlich gestaltet!\nIn diesem interaktiven Workshop zum Thema „Finanzplan einfach erklärt“ lernen Sie\, wie Sie einen soliden Finanzplan für Ihr Unternehmen erstellen können\, ohne sich von komplizierten Zahlen und Begriffen überwältigen zu lassen.  \n\nWir zeigen Ihnen Schritt für Schritt\, wie Sie Einnahmen und Ausgaben richtig kalkulieren\, Liquiditätsengpässe vermeiden und langfristige finanzielle Ziele setzen können. Erfahren Sie\, wie Sie Ihre Finanzen effektiv planen und kontrollieren\, um Ihr Unternehmen auf Kurs zu halten und langfristigen Erfolg zu sichern. Mit praxisnahen Beispielen und individueller Unterstützung werden auch Finanzthemen für Einsteiger verständlich und greifbar gemacht. \nThemen:  \n– Aufbau eines Finanzplans \n– Kurzer Einblick in den Businessplan \n– Kalkulation Privater Ein-& Ausgaben \n– Kapitalbedarf \n– Betriebskosten \n– Umsatzplanung \n– Rentabilitätsvorschau \n– Finanzierungsplan \n \nReferentinnen: Karin Silvestri\n \nLernen Sie außerdem andere Frauen kennen\, die schon in Deutschland gegründet haben oder auch gerade dabei sind. Durch das Zusammenkommen haben Sie die Möglichkeit mehr über andere Gründerinnen und Ihre Ideen zu erfahren und somit wertvolle Kontakte zu knüpfen.\n \nUnd: keine Angst\, wenn Sie noch nicht so gut Deutsch sprechen. Wir sprechen langsam\, erklären viel und können auch übersetzen\, z.B. in Englisch\, Französisch\, Arabisch oder Ukrainisch…\n  \n\n \nWann\n23.02.2026\, 13:30 – 16:00 Uhr      \n \nWo\nPro Social Business in Rheinland-Pfalz\, Friedrichstr. 46\, 67433 Neustadt/Weinstraße Preis Für Teilnehmerinnen am Projekt ist dieser Kurs kostenlos.  Anmeldung femme@prosocialbusiness.de oder telefonisch unter  +49 (0) 6321 9653 020  \n\n\n 
URL:https://prosocialbusiness.de/termine/finanzplanung-2-2-2-2/
LOCATION:Pro Social Business NW\, Friedrichstraße 46\, Neustadt\, 67433\, Deutschland
CATEGORIES:Femme,Workshop
ATTACH;FMTTYPE=image/jpeg:https://prosocialbusiness.de/de/wp-content/uploads/2024/06/WS_Finanzplan.jpg
ORGANIZER;CN="Pro Social Business NW":MAILTO:femme@prosocialbusiness.de
END:VEVENT
BEGIN:VEVENT
DTSTART;TZID=Europe/Helsinki:20260226T133000
DTEND;TZID=Europe/Helsinki:20260226T160000
DTSTAMP:20260424T182211
CREATED:20260116T124923Z
LAST-MODIFIED:20260116T124923Z
UID:12904-1772112600-1772121600@prosocialbusiness.de
SUMMARY:Preiskalkulation – Einfach gemacht!
DESCRIPTION:Unternehmerische Kennzahlen\, um alle Kosten im Preis zu berücksichtigen!\n\n\nDer richtige Preis ist für jedes Unternehmen ein Eckpfeiler für den wirtschaftlichen Erfolg. Doch was muss alles in die Preise mit eingerechnet werden? \nWir gehen in diesem Workshop auf die einzelnen Kostenbereiche ein und geben Ihnen einen einfachen Leitfaden an die Hand\, mit dem Sie Ihre Preise kalkulieren bzw. immer wieder überprüfen können. \n\n \nReferentin: Karin Silvestri\n \nLernen Sie außerdem andere Frauen kennen\, die schon in Deutschland gegründet haben oder auch gerade dabei sind. Durch das Zusammenkommen haben Sie die Möglichkeit mehr über andere Gründerinnen und Ihre Ideen zu erfahren und somit wertvolle Kontakte zu knüpfen.\n \nUnd: keine Angst\, wenn Sie noch nicht so gut Deutsch sprechen. Wir sprechen langsam\, erklären viel und können auch übersetzen\, z.B. in Englisch\, Französisch\, Arabisch oder Ukrainisch…\n  \n\n \nWann\n26.02.2026\, 13:30 – 16:00 Uhr      \n \nWo\nPro Social Business in Rheinland-Pfalz\, Friedrichstr. 46\, 67433 Neustadt/Weinstraße Preis Für Teilnehmerinnen am Projekt ist dieser Kurs kostenlos.  Anmeldung femme@prosocialbusiness.de oder telefonisch unter  +49 (0) 6321 9653 020  \n\n\n 
URL:https://prosocialbusiness.de/termine/preiskalkulation-2024-2-2-2-2-2/
LOCATION:Pro Social Business NW\, Friedrichstraße 46\, Neustadt\, 67433\, Deutschland
CATEGORIES:Femme,Workshop
ATTACH;FMTTYPE=image/jpeg:https://prosocialbusiness.de/de/wp-content/uploads/2022/08/photocase_237209.jpg
ORGANIZER;CN="Pro Social Business NW":MAILTO:femme@prosocialbusiness.de
END:VEVENT
END:VCALENDAR